BEGIN:VCALENDAR
VERSION:2.0
PRODID:-//Plone.org//NONSGML plone.app.event//EN
X-WR-TIMEZONE:America/Maceio
BEGIN:VEVENT
SUMMARY:[Seminário PPGCS] Dengue: Imunopatogenia e Desenvolvimento de Ant
 ivirais
DTSTART;TZID=America/Maceio:20150525T133000
DTEND;TZID=America/Maceio:20150525T153000
DTSTAMP:20260420T203228Z
UID:a7ac170afa3846378a8f05c7753f5075@icbs.ufal.br
ATTENDEE;CN="Palestrante: Dr Juliano Bordignon";ROLE=REQ-PARTICIPANT:Pales
 trante: Dr Juliano Bordignon
ATTENDEE;CN="Laboratório de Virologia Molecular, Instituto Carlos Chagas 
 (ICC), Fiocruz-PR";ROLE=REQ-PARTICIPANT:Laboratório de Virologia Molecula
 r, Instituto Carlos Chagas (ICC), Fiocruz-PR
CREATED:20150519T134721Z
LAST-MODIFIED:20251001T195749Z
LOCATION:Sala 19/ICBS/UFAL
URL:https://icbs.ufal.br/pt-br/pos-graduacao/ciencias-da-saude/institucion
 al/eventos/seminario-ppgcs-dengue-imunopatogenia-e-desenvolvimento-de-anti
 virais
END:VEVENT
BEGIN:VTIMEZONE
TZID:America/Maceio
X-LIC-LOCATION:America/Maceio
BEGIN:STANDARD
DTSTART:20020216T230000
TZNAME:-03
TZOFFSETFROM:-0200
TZOFFSETTO:-0300
END:STANDARD
END:VTIMEZONE
END:VCALENDAR
