BEGIN:VCALENDAR
VERSION:2.0
PRODID:-//Plone.org//NONSGML plone.app.event//EN
X-WR-TIMEZONE:America/Maceio
BEGIN:VEVENT
SUMMARY:13º Congresso Nacional da SBAN
DTSTART;TZID=America/Maceio:20150825T084500
DTEND;TZID=America/Maceio:20150827T184500
DTSTAMP:20260420T043139Z
UID:c7718d9806cc4cf781ea1dfa845f1bab@icbs.ufal.br
CONTACT:http://www.sban.org.br/congresso2015/index.php
CREATED:20150519T134456Z
DESCRIPTION:A Ciência da Alimentação e Nutrição: Inovações e Desafi
 os
LAST-MODIFIED:20251001T195749Z
URL:https://icbs.ufal.br/pt-br/pos-graduacao/ciencias-da-saude/institucion
 al/eventos/13o-congresso-nacional-da-sban
END:VEVENT
BEGIN:VTIMEZONE
TZID:America/Maceio
X-LIC-LOCATION:America/Maceio
BEGIN:STANDARD
DTSTART:20020216T230000
TZNAME:-03
TZOFFSETFROM:-0200
TZOFFSETTO:-0300
END:STANDARD
END:VTIMEZONE
END:VCALENDAR
