BEGIN:VCALENDAR
VERSION:2.0
PRODID:-//Plone.org//NONSGML plone.app.event//EN
X-WR-TIMEZONE:America/Maceio
BEGIN:VEVENT
SUMMARY:11º Congresso Brasileiro de Saúde Coletiva
DTSTART;TZID=America/Maceio:20150728T080000
DTEND;TZID=America/Maceio:20150801T180000
DTSTAMP:20260420T213340Z
UID:020f6e94acb04421b7fe27459726a2cd@icbs.ufal.br
CONTACT:http://www.saudecoletiva.org.br/
CREATED:20150519T134253Z
DESCRIPTION:Saúde\, Desenvolvimento e Democracia: o desafio do SUS univer
 sal
LAST-MODIFIED:20251001T195749Z
LOCATION:Universidade Federal de Goiás - Goiânia - GO
URL:https://icbs.ufal.br/pt-br/pos-graduacao/ciencias-da-saude/institucion
 al/eventos/11o-congresso-brasileiro-de-saude-coletiva
END:VEVENT
BEGIN:VTIMEZONE
TZID:America/Maceio
X-LIC-LOCATION:America/Maceio
BEGIN:STANDARD
DTSTART:20020216T230000
TZNAME:-03
TZOFFSETFROM:-0200
TZOFFSETTO:-0300
END:STANDARD
END:VTIMEZONE
END:VCALENDAR
